BEGIN:VCALENDAR
VERSION:2.0
PRODID:-//ChamberMaster//Event Calendar 2.0//EN
METHOD:PUBLISH
X-PUBLISHED-TTL:P3D
REFRESH-INTERVAL:P3D
CALSCALE:GREGORIAN
BEGIN:VEVENT
DTSTART:20140206T020000Z
DTEND:20140206T030000Z
X-MICROSOFT-CDO-ALLDAYEVENT:FALSE
SUMMARY:Weight Loss with Ideal Protein
DESCRIPTION:Lose Weight the Ideal Protein Way! Join us for a Free Class on incredible Weight loss! Dieters Lose an average of 3-7 pounds a WEEK! See the before and afters for yourself at our office where Dr. Jeanine Wolf will be speaking about how she has lost 50 plus pounds on Ideal Protein in under 3 months!!! Learn how to rid your body of unwanted FAT cells! Learn why we hold on to FAT. We are excited to see you there\, please RSVP via email or phone. -Group discounts/Employer Wellness program Class -Samples of Foods -Drawing for prizes -Educational -Free Body Composition Scan(Valued at $59.00) -Free Consultation on Health
X-ALT-DESC;FMTTYPE=text/html:Lose Weight the Ideal Protein Way! Join us for a Free Class on incredible Weight loss! Dieters Lose an average of 3-7 pounds a WEEK! See the before and afters for yourself at our office where Dr. Jeanine Wolf will be speaking about how she has lost 50 plus pounds on Ideal Protein in under 3 months!!! Learn how to rid your body of unwanted FAT cells! Learn why we hold on to FAT. We are excited to see you there\, please RSVP via email or phone. -Group discounts/Employer Wellness program Class -Samples of Foods -Drawing for prizes -Educational -Free Body Composition Scan(Valued at $59.00) -Free Consultation on Health
LOCATION:Wolf Chiropractic Center 1010 So. 336th St. #102(1st Floor) Federal Way\, WA 98003
UID:e.1152.1426
SEQUENCE:3
DTSTAMP:20260421T113012Z
URL:https://business.fedwaychamber.com/events/details/weight-loss-with-ideal-protein-02-05-2014-1426
END:VEVENT

END:VCALENDAR
