BEGIN:VCALENDAR
VERSION:2.0
PRODID:-//ChamberMaster//Event Calendar 2.0//EN
METHOD:PUBLISH
X-PUBLISHED-TTL:P3D
REFRESH-INTERVAL:P3D
CALSCALE:GREGORIAN
BEGIN:VEVENT
DTSTART:20240401T070000Z
DTEND:20240401T190000Z
X-MICROSOFT-CDO-ALLDAYEVENT:FALSE
SUMMARY:The Art of Public Speaking: Certificate Series
DESCRIPTION:THE ART OF PUBLIC SPEAKING:\n\nWorkforce Certificate Series\n\n\n\nLearn the essential elements of preparing a successful presentation. The course will cover the importance of defining your presentation's purpose\, researching your topic\, developing visual aids\, and\, of course\, practicing.\n\n\n\nAbout the Workforce Certificate Program\n\nThis online training session can be accessed at any time during the month of April. The session is expected to take 1 to 1.5 hours\, followed by a content test. When passed\, a certificate of completion will be issued.\n\n\n\nThe Federal Way Chamber's Workforce Certificate series is offered in partnership with the International Association of Workforce Professionals as part of a grant with the Washington Department of Commerce.
X-ALT-DESC;FMTTYPE=text/html:<strong><span style="font-size:16px\;">THE ART OF PUBLIC SPEAKING:<br />\nWorkforce Certificate Series</span></strong><br />\n<br />\nLearn the essential elements of preparing a successful presentation. The course will cover the importance of defining your presentation&#39\;s purpose\, researching your topic\, developing visual aids\, and\, of course\, practicing.<br />\n<br />\n<span style="font-size:14px\;"><u><strong>About the Workforce Certificate Program</strong></u></span><br />\nThis online training session can be accessed at any time during the month of April. The session is expected to take 1 to 1.5 hours\, followed by a content test. When passed\, a certificate of completion will be issued.<br />\n<br />\nThe Federal Way Chamber&#39\;s Workforce Certificate series is offered in partnership with the International Association of Workforce Professionals as part of a grant with the Washington Department of Commerce.<br />\n<br />\n&nbsp\;
LOCATION:Online. A link to access the training module will be sent to you after registration. The link will be active through April 30.
UID:e.1152.10530
SEQUENCE:3
DTSTAMP:20260423T200703Z
URL:https://business.fedwaychamber.com/events/details/the-art-of-public-speaking-certificate-series-10530
END:VEVENT

END:VCALENDAR
