BEGIN:VCALENDAR
VERSION:2.0
PRODID:-//ChamberMaster//Event Calendar 2.0//EN
METHOD:PUBLISH
X-PUBLISHED-TTL:P3D
REFRESH-INTERVAL:P3D
CALSCALE:GREGORIAN
BEGIN:VEVENT
DTSTART:20140214T020000Z
DTEND:20140214T030000Z
X-MICROSOFT-CDO-ALLDAYEVENT:FALSE
SUMMARY:Russian Conversation Group
DESCRIPTION:Connect to the Slavic Community and increase your business by learning basic Russian phrases. This will take your business to next level! Do you want to practice a foreign language and have the opportunity for a real language and cultural exchange? The main emphasis of this group is to practice basic Russian language conversational speaking\, but some elements of Russian culture such as customs\, manners\, and ethnic foods may be introduced as well. Come join us for an evening of Russian Conversation Our weekly language exchange meetings on every Thursdays from 6 pm to 7pm. Entry event $ 5.00 including tea\, coffee\, & cookies! Casual\, Informal\, and Fun! 34428 Pacific HWY So. Ste. # A\, Federal Way WA 98003(Next to Secoma Lanes Bowling\, old sign still there as Little Russia Bistro & Caf ) Email: tkhub7@gmail.com Contact Tatyana at 253-223-1355 ?One language sets you in a corridor for life. Two languages open every door along the way.? ?Frank Smith
X-ALT-DESC;FMTTYPE=text/html:Connect to the Slavic Community and increase your business by learning basic Russian phrases. This will take your business to next level! Do you want to practice a foreign language and have the opportunity for a real language and cultural exchange? The main emphasis of this group is to practice basic Russian language conversational speaking\, but some elements of Russian culture such as customs\, manners\, and ethnic foods may be introduced as well. Come join us for an evening of Russian Conversation Our weekly language exchange meetings on every Thursdays from 6 pm to 7pm. Entry event $ 5.00 including tea\, coffee\, &amp\; cookies! Casual\, Informal\, and Fun! 34428 Pacific HWY So. Ste. # A\, Federal Way WA 98003(Next to Secoma Lanes Bowling\, old sign still there as Little Russia Bistro &amp\; Caf&eacute\;) Email: tkhub7@gmail.com Contact Tatyana at 253-223-1355 ?One language sets you in a corridor for life. Two languages open every door along the way.? ?Frank Smith 
LOCATION:TK HUB! 34428 Pacific HWY So. #A Federal Way\, WA 98003
UID:e.1152.1431
SEQUENCE:3
DTSTAMP:20260421T115348Z
URL:https://business.fedwaychamber.com/events/details/russian-conversation-group-02-13-2014-1431
END:VEVENT

END:VCALENDAR
