BEGIN:VCALENDAR
VERSION:2.0
PRODID:-//ChamberMaster//Event Calendar 2.0//EN
METHOD:PUBLISH
X-PUBLISHED-TTL:P3D
REFRESH-INTERVAL:P3D
CALSCALE:GREGORIAN
BEGIN:VEVENT
DTSTART:20260122T210000Z
DTEND:20260122T230000Z
X-MICROSOFT-CDO-ALLDAYEVENT:FALSE
SUMMARY:Join us for an Informational Lunch and Senior Lifestyle Experience at GenCare Federal Way
DESCRIPTION:Join us for an inspiring afternoon where you'll learn about:\n\nWhole Life Living- caring for mind\, body and purpose. \n\nChef prepared dining\, wellness programs\, and engaging social life. \n\nIndependent\, living\, assisted living & memory care- all in one community.\n\nThe peace of mind that comes from thoughtful\, personalized support. \n\nEnjoy a complimentary lunch\, a guided tour of our beautiful community\, and one on one conversations with our team. \n\nThis is more than a presentation - it's a chance to see what your next chapter could look like.
X-ALT-DESC;FMTTYPE=text/html:Join us for an inspiring afternoon where you&#39\;ll learn about:<br />\nWhole Life Living- caring for mind\, body and purpose.&nbsp\;<br />\nChef prepared dining\, wellness programs\, and engaging social life.&nbsp\;<br />\nIndependent\, living\, assisted living &amp\; memory care- all in one community.<br />\nThe peace of mind that comes from thoughtful\, personalized support.&nbsp\;<br />\nEnjoy a complimentary lunch\, a guided tour of our beautiful community\, and one on one conversations with our team.&nbsp\;<br />\nThis is more than a presentation - it&#39\;s a chance to see what your next chapter could look like.&nbsp\;
LOCATION:GenCare Federal Way 31200 23rd Ave S. Federal Way\, WA 98003 Active Retirement\, Assisted Living\, Memory Care
UID:e.1152.10963
SEQUENCE:3
DTSTAMP:20260421T200046Z
URL:https://business.fedwaychamber.com/events/details/join-us-for-an-informational-lunch-and-senior-lifestyle-experience-at-gencare-federal-way-10963
END:VEVENT

END:VCALENDAR
