BEGIN:VCALENDAR
VERSION:2.0
PRODID:-//ChamberMaster//Event Calendar 2.0//EN
METHOD:PUBLISH
X-PUBLISHED-TTL:P3D
REFRESH-INTERVAL:P3D
CALSCALE:GREGORIAN
BEGIN:VEVENT
DTSTART:20110506T183000Z
DTEND:20110506T200000Z
X-MICROSOFT-CDO-ALLDAYEVENT:FALSE
SUMMARY:Grand Opening
DESCRIPTION:Join us for the Grand Opening / Ribbon Cutting of Pochels Appliance Center!
X-ALT-DESC;FMTTYPE=text/html:Join us for the Grand Opening / Ribbon Cutting of Pochels Appliance Center!
LOCATION:Pochels Appliance Center 33029 Pacific Highway South Federal Way\, WA 98003
UID:e.1152.448
SEQUENCE:3
DTSTAMP:20260424T103740Z
URL:https://business.fedwaychamber.com/events/details/grand-opening-05-06-2011-448
END:VEVENT

END:VCALENDAR
