BEGIN:VCALENDAR
VERSION:2.0
PRODID:-//ChamberMaster//Event Calendar 2.0//EN
METHOD:PUBLISH
X-PUBLISHED-TTL:P3D
REFRESH-INTERVAL:P3D
CALSCALE:GREGORIAN
BEGIN:VEVENT
DTSTART;VALUE=DATE:20110715
DTEND;VALUE=DATE:20110716
TRANSP:TRANSPARENT
X-MICROSOFT-CDO-ALLDAYEVENT:TRUE
SUMMARY:Golf Classic
DESCRIPTION:Join us for our annual Golf Classic!
X-ALT-DESC;FMTTYPE=text/html:Join us for our annual Golf Classic!
LOCATION:Twin Lakes Golf & Country Club 3583 SW 320th Street Federal Way\, WA 98023
UID:e.1152.483
SEQUENCE:3
DTSTAMP:20260424T072506Z
URL:https://business.fedwaychamber.com/events/details/golf-classic-07-15-2011-483
END:VEVENT

END:VCALENDAR
