BEGIN:VCALENDAR
VERSION:2.0
PRODID:-//ChamberMaster//Event Calendar 2.0//EN
METHOD:PUBLISH
X-PUBLISHED-TTL:P3D
REFRESH-INTERVAL:P3D
CALSCALE:GREGORIAN
BEGIN:VEVENT
DTSTART:20240420T160000Z
DTEND:20240420T190000Z
X-MICROSOFT-CDO-ALLDAYEVENT:FALSE
SUMMARY:Earth Day Service Project - YMCA Camp Kilworth
DESCRIPTION:Celebrate Earth Day by making a difference!\n\n\n\nTurn out for a fun morning of Service helping rehabilitate the Camp Kilworth Property!  We'll tackle some trail clearing\, invasive plant removal\, fence building and other hands on projects.\n\n\n\nYou can bring work gloves and should wear clothes you don't mind getting dirty!\n\n\n\nSignup online at Volunteer Project Page (volunteermatters.org) or just show up the day of.\n\n\n\nMore questions?  Contact Josh Sutton - jsutton@seattleymca.org or (206) 658-3331
X-ALT-DESC;FMTTYPE=text/html:Celebrate Earth Day by making a difference!<br />\n<br />\nTurn out for a fun morning of Service helping rehabilitate the Camp Kilworth Property!&nbsp\; We&#39\;ll tackle some trail clearing\, invasive plant removal\, fence building and other hands on projects.<br />\n<br />\nYou can bring work gloves and should wear clothes you don&#39\;t mind getting dirty!<br />\n<br />\nSignup online at&nbsp\;<a href="https://seattleymca.volunteermatters.org/project-catalog/787">Volunteer Project Page (volunteermatters.org)</a>&nbsp\;or just show up the day of.<br />\n<br />\nMore questions?&nbsp\; Contact Josh Sutton - jsutton@seattleymca.org or (206) 658-3331
LOCATION:YMCA Camp Kilworth - 30900 50th Ave SW\, Federal Way\, WA 98023
UID:e.1152.10534
SEQUENCE:3
DTSTAMP:20260423T161752Z
URL:https://business.fedwaychamber.com/events/details/earth-day-service-project-ymca-camp-kilworth-10534
END:VEVENT

END:VCALENDAR
